BEGIN:VCALENDAR
VERSION:2.0
PRODID:-//United For The Least - ECPv6.7.0//NONSGML v1.0//EN
CALSCALE:GREGORIAN
METHOD:PUBLISH
X-WR-CALNAME:United For The Least
X-ORIGINAL-URL:https://unitedfortheleast.org
X-WR-CALDESC:Events for United For The Least
REFRESH-INTERVAL;VALUE=DURATION:PT1H
X-Robots-Tag:noindex
X-PUBLISHED-TTL:PT1H
BEGIN:VTIMEZONE
TZID:America/Los_Angeles
BEGIN:DAYLIGHT
TZOFFSETFROM:-0800
TZOFFSETTO:-0700
TZNAME:PDT
DTSTART:20190310T100000
END:DAYLIGHT
BEGIN:STANDARD
TZOFFSETFROM:-0700
TZOFFSETTO:-0800
TZNAME:PST
DTSTART:20191103T090000
END:STANDARD
END:VTIMEZONE
BEGIN:VEVENT
DTSTART;TZID=America/Los_Angeles:20191017T090000
DTEND;TZID=America/Los_Angeles:20191017T101500
DTSTAMP:20260419T120602
CREATED:20191009T000010Z
LAST-MODIFIED:20191009T000010Z
UID:16561-1571302800-1571307300@unitedfortheleast.org
SUMMARY:Worship & Teaching
DESCRIPTION:
URL:https://unitedfortheleast.org/event/worship-teaching-2019-10-17/
LOCATION:First Presbyterian Church Chapel\, 2315 Placer St\, Redding\, CA\, 96001\, United States
ORGANIZER;CN="YWAM Redding":MAILTO:info@ywamunited.org
END:VEVENT
BEGIN:VEVENT
DTSTART;TZID=America/Los_Angeles:20191017T180000
DTEND;TZID=America/Los_Angeles:20191019T200000
DTSTAMP:20260419T120603
CREATED:20191014T230353Z
LAST-MODIFIED:20191014T230353Z
UID:16867-1571335200-1571515200@unitedfortheleast.org
SUMMARY:Tent America 2019
DESCRIPTION:[fusion_builder_container hundred_percent=”no” hundred_percent_height=”no” hundred_percent_height_scroll=”no” hundred_percent_height_center_content=”yes” equal_height_columns=”no” menu_anchor=”” hide_on_mobile=”small-visibility\,medium-visibility\,large-visibility” status=”published” publish_date=”” class=”” id=”” background_color=”” background_image=”” background_position=”center center” background_repeat=”no-repeat” fade=”no” background_parallax=”none” enable_mobile=”no” parallax_speed=”0.3″ video_mp4=”” video_webm=”” video_ogv=”” video_url=”” video_aspect_ratio=”16:9″ video_loop=”yes” video_mute=”yes” video_preview_image=”” border_size=”” border_color=”” border_style=”solid” margin_top=”” margin_bottom=”” padding_top=”” padding_right=”” padding_bottom=”” padding_left=””][fusion_builder_row][fusion_builder_column type=”1_1″ spacing=”” center_content=”no” link=”” target=”_self” min_height=”” hide_on_mobile=”small-visibility\,medium-visibility\,large-visibility” class=”” id=”” background_color=”” background_image=”” background_image_id=”” background_position=”left top” background_repeat=”no-repeat” hover_type=”none” border_size=”0″ border_color=”” border_style=”solid” border_position=”all” border_radius=”” box_shadow=”no” dimension_box_shadow=”” box_shadow_blur=”0″ box_shadow_spread=”0″ box_shadow_color=”” box_shadow_style=”” padding_top=”” padding_right=”” padding_bottom=”” padding_left=”” margin_top=”” margin_bottom=”” animation_type=”” animation_direction=”left” animation_speed=”0.3″ animation_offset=”” last=”no”][fusion_text columns=”” column_min_width=”” column_spacing=”” s2id_autogen77=”” s2id_autogen77_search=”” rule_style=”default” rule_size=”” rule_color=”” hide_on_mobile=”small-visibility\,medium-visibility\,large-visibility” class=”” id=””] \nJoin Awaken The Dawn for 50 hours of non-stop worship and prayer! Worshippers from different churches all across our region will be worshipping the King of Kings 🔥⁣⁣We will lift our song along with believers ACROSS THE COUNTRY as we blanket our nation in worship\, prayer\, and gospel declaration. Will you help us fill the tent?⁣⁣We are talking about 50-hour tent gatherings of worship\, prayer\, and gospel proclamation\, happening simultaneously across all of America on October 17\, 6pm- 19\, 8pm. Truly\, this is an hour for the worth of Jesus to go viral.⁣⁣Will you join us? \n[/fusion_text][/fusion_builder_column][/fusion_builder_row][/fusion_builder_container]
URL:https://unitedfortheleast.org/event/tent-america-2019/
LOCATION:Simpson University\, 2211 College View Drive\, Redding\, CA\, 96003\, United States
END:VEVENT
END:VCALENDAR