BEGIN:VCALENDAR
VERSION:2.0
PRODID:-//United For The Least - ECPv6.7.0//NONSGML v1.0//EN
CALSCALE:GREGORIAN
METHOD:PUBLISH
X-WR-CALNAME:United For The Least
X-ORIGINAL-URL:https://unitedfortheleast.org
X-WR-CALDESC:Events for United For The Least
REFRESH-INTERVAL;VALUE=DURATION:PT1H
X-Robots-Tag:noindex
X-PUBLISHED-TTL:PT1H
BEGIN:VTIMEZONE
TZID:America/Los_Angeles
BEGIN:DAYLIGHT
TZOFFSETFROM:-0800
TZOFFSETTO:-0700
TZNAME:PDT
DTSTART:20190310T100000
END:DAYLIGHT
BEGIN:STANDARD
TZOFFSETFROM:-0700
TZOFFSETTO:-0800
TZNAME:PST
DTSTART:20191103T090000
END:STANDARD
END:VTIMEZONE
BEGIN:VEVENT
DTSTART;TZID=America/Los_Angeles:20191202T090000
DTEND;TZID=America/Los_Angeles:20191202T101500
DTSTAMP:20260419T193846
CREATED:20191008T223122Z
LAST-MODIFIED:20191008T223122Z
UID:16366-1575277200-1575281700@unitedfortheleast.org
SUMMARY:Worship & Intercession
DESCRIPTION:
URL:https://unitedfortheleast.org/event/worship-intercession-2019-12-02/
LOCATION:First Presbyterian Church Chapel\, 2315 Placer St\, Redding\, CA\, 96001\, United States
ORGANIZER;CN="YWAM Redding":MAILTO:info@ywamunited.org
END:VEVENT
END:VCALENDAR