BEGIN:VCALENDAR
VERSION:2.0
PRODID:-//United For The Least - ECPv6.7.0//NONSGML v1.0//EN
CALSCALE:GREGORIAN
METHOD:PUBLISH
X-WR-CALNAME:United For The Least
X-ORIGINAL-URL:https://unitedfortheleast.org
X-WR-CALDESC:Events for United For The Least
REFRESH-INTERVAL;VALUE=DURATION:PT1H
X-Robots-Tag:noindex
X-PUBLISHED-TTL:PT1H
BEGIN:VTIMEZONE
TZID:America/Los_Angeles
BEGIN:DAYLIGHT
TZOFFSETFROM:-0800
TZOFFSETTO:-0700
TZNAME:PDT
DTSTART:20190310T100000
END:DAYLIGHT
BEGIN:STANDARD
TZOFFSETFROM:-0700
TZOFFSETTO:-0800
TZNAME:PST
DTSTART:20191103T090000
END:STANDARD
END:VTIMEZONE
BEGIN:VEVENT
DTSTART;VALUE=DATE:20191211
DTEND;VALUE=DATE:20191219
DTSTAMP:20260419T085717
CREATED:20191009T230750Z
LAST-MODIFIED:20191009T230750Z
UID:16665-1576022400-1576713599@unitedfortheleast.org
SUMMARY:Clarkston Refugee Outreach
DESCRIPTION:[fusion_builder_container hundred_percent=”no” hundred_percent_height=”no” hundred_percent_height_scroll=”no” hundred_percent_height_center_content=”yes” equal_height_columns=”no” menu_anchor=”” hide_on_mobile=”small-visibility\,medium-visibility\,large-visibility” status=”published” publish_date=”” class=”” id=”” background_color=”” background_image=”” background_position=”center center” background_repeat=”no-repeat” fade=”no” background_parallax=”none” enable_mobile=”no” parallax_speed=”0.3″ video_mp4=”” video_webm=”” video_ogv=”” video_url=”” video_aspect_ratio=”16:9″ video_loop=”yes” video_mute=”yes” video_preview_image=”” border_size=”” border_color=”” border_style=”solid” margin_top=”” margin_bottom=”” padding_top=”” padding_right=”” padding_bottom=”” padding_left=””][fusion_builder_row][fusion_builder_column type=”1_1″ spacing=”” center_content=”no” link=”” target=”_self” min_height=”” hide_on_mobile=”small-visibility\,medium-visibility\,large-visibility” class=”” id=”” background_color=”” background_image=”” background_image_id=”” background_position=”left top” background_repeat=”no-repeat” hover_type=”none” border_size=”0″ border_color=”” border_style=”solid” border_position=”all” border_radius=”” box_shadow=”no” dimension_box_shadow=”” box_shadow_blur=”0″ box_shadow_spread=”0″ box_shadow_color=”” box_shadow_style=”” padding_top=”” padding_right=”” padding_bottom=”” padding_left=”” margin_top=”” margin_bottom=”” animation_type=”” animation_direction=”left” animation_speed=”0.3″ animation_offset=”” last=”no”][fusion_text columns=”” column_min_width=”” column_spacing=”” s2id_autogen126=”” s2id_autogen126_search=”” rule_style=”default” rule_size=”” rule_color=”” hide_on_mobile=”small-visibility\,medium-visibility\,large-visibility” class=”” id=””] \nClarkston\, Georgia\, just outside of Atlanta\, is home to around 12\,000 people who are primarily refugees and immigrants from South and Central Asia\, East Africa\, and the Middle East. This town holds what has been suggested as the most diverse square mile of the world! Join us December 11-18\, 2019 for street evangelism and Bible distribution to every home in Clarkston\, Georgia. We will be partnering with long-term disciplers in the area\, and inviting individuals to a stadium worship event in 2020. \n[/fusion_text][/fusion_builder_column][/fusion_builder_row][/fusion_builder_container]
URL:https://unitedfortheleast.org/event/clarkston-refugee-outreach/
LOCATION:Clarkston\, Georgia\, Clarkston\, GA\, United States
ORGANIZER;CN="YWAM Redding":MAILTO:info@ywamunited.org
END:VEVENT
END:VCALENDAR