BEGIN:VCALENDAR
VERSION:2.0
PRODID:-//United For The Least - ECPv6.7.0//NONSGML v1.0//EN
CALSCALE:GREGORIAN
METHOD:PUBLISH
X-WR-CALNAME:United For The Least
X-ORIGINAL-URL:https://unitedfortheleast.org
X-WR-CALDESC:Events for United For The Least
REFRESH-INTERVAL;VALUE=DURATION:PT1H
X-Robots-Tag:noindex
X-PUBLISHED-TTL:PT1H
BEGIN:VTIMEZONE
TZID:America/Los_Angeles
BEGIN:DAYLIGHT
TZOFFSETFROM:-0800
TZOFFSETTO:-0700
TZNAME:PDT
DTSTART:20180311T100000
END:DAYLIGHT
BEGIN:STANDARD
TZOFFSETFROM:-0700
TZOFFSETTO:-0800
TZNAME:PST
DTSTART:20181104T090000
END:STANDARD
END:VTIMEZONE
BEGIN:VEVENT
DTSTART;TZID=America/Los_Angeles:20180719T183000
DTEND;TZID=America/Los_Angeles:20180719T203000
DTSTAMP:20260420T074410
CREATED:20180621T224843Z
LAST-MODIFIED:20180626T180614Z
UID:15495-1532025000-1532032200@unitedfortheleast.org
SUMMARY:Kingdom Night: Jason Vallotton
DESCRIPTION:[fusion_builder_container hundred_percent=”no” equal_height_columns=”no” hide_on_mobile=”small-visibility\,medium-visibility\,large-visibility” background_position=”center center” background_repeat=”no-repeat” fade=”no” background_parallax=”none” enable_mobile=”no” parallax_speed=”0.3″ video_aspect_ratio=”16:9″ video_loop=”yes” video_mute=”yes” border_style=”solid” padding_top=”20px” padding_bottom=”20px”][fusion_builder_row][fusion_builder_column type=”1_1″ layout=”1_1″ spacing=”” center_content=”no” hover_type=”none” link=”” min_height=”” hide_on_mobile=”small-visibility\,medium-visibility\,large-visibility” class=”” id=”” background_color=”” background_image=”” background_position=”left top” background_repeat=”no-repeat” border_size=”0″ border_color=”” border_style=”solid” border_position=”all” padding_top=”” padding_right=”” padding_bottom=”” padding_left=”” dimension_margin=”” animation_type=”” animation_direction=”left” animation_speed=”0.3″ animation_offset=”” last=”no”][fusion_text columns=”” column_min_width=”” column_spacing=”” rule_style=”default” rule_size=”” rule_color=”” class=”” id=””] \nOur weekly Kingdom Nights are a time to gather together with the local community and seek God’s presence! We love to connect with our Redding and Shasta area family to receive from the Lord and encourage one another. \n[/fusion_text][/fusion_builder_column][/fusion_builder_row][/fusion_builder_container][fusion_builder_container hundred_percent=”no” hundred_percent_height=”no” hundred_percent_height_scroll=”no” hundred_percent_height_center_content=”yes” equal_height_columns=”no” menu_anchor=”” hide_on_mobile=”small-visibility\,medium-visibility\,large-visibility” class=”” id=”” background_color=”” background_image=”” background_position=”center center” background_repeat=”no-repeat” fade=”no” background_parallax=”none” enable_mobile=”no” parallax_speed=”0.3″ video_mp4=”” video_webm=”” video_ogv=”” video_url=”” video_aspect_ratio=”16:9″ video_loop=”yes” video_mute=”yes” video_preview_image=”” border_size=”” border_color=”” border_style=”solid” margin_top=”” margin_bottom=”” padding_top=”” padding_right=”” padding_bottom=”” padding_left=””][fusion_builder_row][fusion_builder_column type=”1_2″ spacing=”” center_content=”no” link=”” target=”_self” min_height=”” hide_on_mobile=”small-visibility\,medium-visibility\,large-visibility” class=”” id=”” background_color=”” background_image=”” background_position=”left top” background_repeat=”no-repeat” hover_type=”none” border_size=”0″ border_color=”” border_style=”solid” border_position=”all” padding=”undefined” dimension_margin=”undefined” animation_type=”” animation_direction=”left” animation_speed=”0.3″ animation_offset=”” last=”no”][fusion_imageframe image_id=”15516″ max_width=”325px” style_type=”none” stylecolor=”” hover_type=”none” bordersize=”” bordercolor=”” borderradius=”” align=”none” lightbox=”no” gallery_id=”” lightbox_image=”” alt=”” link=”” linktarget=”_self” hide_on_mobile=”small-visibility\,medium-visibility\,large-visibility” class=”” id=”” animation_type=”” animation_direction=”left” animation_speed=”0.3″ animation_offset=””]https://ywamunited.org/wp-content/uploads/2018/06/IMG_4684-e1530035699904.jpg[/fusion_imageframe][/fusion_builder_column][fusion_builder_column type=”1_2″ spacing=”” center_content=”no” link=”” target=”_self” min_height=”” hide_on_mobile=”small-visibility\,medium-visibility\,large-visibility” class=”” id=”” background_color=”” background_image=”” background_position=”left top” background_repeat=”no-repeat” hover_type=”none” border_size=”0″ border_color=”” border_style=”solid” border_position=”all” padding=”undefined” dimension_margin=”undefined” animation_type=”” animation_direction=”left” animation_speed=”0.3″ animation_offset=”” last=”no”][fusion_text columns=”” column_min_width=”” column_spacing=”” rule_style=”default” rule_size=”” rule_color=”” class=”” id=””] \nThis week we have guest speaker Jason Vallotton from Redding’s own Bethel Church! Join us as we hear the message that has been placed on his heart for our community! We will have a time to respond to God afterwords with worship as we seek what God wants to speak and release among us. It is going to be a powerful night! \n[/fusion_text][/fusion_builder_column][/fusion_builder_row][/fusion_builder_container][fusion_builder_container hundred_percent=”no” hundred_percent_height=”no” hundred_percent_height_scroll=”no” hundred_percent_height_center_content=”yes” equal_height_columns=”no” menu_anchor=”” hide_on_mobile=”small-visibility\,medium-visibility\,large-visibility” class=”” id=”” background_color=”” background_image=”” background_position=”center center” background_repeat=”no-repeat” fade=”no” background_parallax=”none” enable_mobile=”no” parallax_speed=”0.3″ video_mp4=”” video_webm=”” video_ogv=”” video_url=”” video_aspect_ratio=”16:9″ video_loop=”yes” video_mute=”yes” video_preview_image=”” border_size=”” border_color=”” border_style=”solid” margin_top=”” margin_bottom=”” padding_top=”” padding_right=”” padding_bottom=”” padding_left=””][fusion_builder_row][fusion_builder_column type=”1_1″ spacing=”” center_content=”no” link=”” target=”_self” min_height=”” hide_on_mobile=”small-visibility\,medium-visibility\,large-visibility” class=”” id=”” background_color=”” background_image=”” background_position=”left top” undefined=”” background_repeat=”no-repeat” hover_type=”none” border_size=”0″ border_color=”” border_style=”solid” border_position=”all” padding_top=”” padding_right=”” padding_bottom=”” padding_left=”” margin_top=”25px” margin_bottom=”” animation_type=”” animation_direction=”left” animation_speed=”0.3″ animation_offset=”” last=”no”][fusion_button link=”https://ywamunited.org/events/” text_transform=”” title=”” target=”_self” link_attributes=”” alignment=”” modal=”” hide_on_mobile=”small-visibility\,medium-visibility\,large-visibility” class=”” id=”” color=”default” button_gradient_top_color=”” button_gradient_bottom_color=”” button_gradient_top_color_hover=”” button_gradient_bottom_color_hover=”” accent_color=”” accent_hover_color=”” type=”” bevel_color=”” border_width=”” size=”” stretch=”default” shape=”” icon=”” icon_position=”left” icon_divider=”no” animation_type=”” animation_direction=”left” animation_speed=”0.3″ animation_offset=””]Back to Events Calendar[/fusion_button][/fusion_builder_column][/fusion_builder_row][/fusion_builder_container]
URL:https://unitedfortheleast.org/event/kingdom-night-jason-vallotton/
LOCATION:First Presbyterian Church Chapel\, 2315 Placer St\, Redding\, CA\, 96001\, United States
ATTACH;FMTTYPE=image/jpeg:https://unitedfortheleast.org/wp-content/uploads/2018/06/kingdomnight.jpg
ORGANIZER;CN="YWAM Redding":MAILTO:info@ywamunited.org
END:VEVENT
BEGIN:VEVENT
DTSTART;TZID=America/Los_Angeles:20180712T183000
DTEND;TZID=America/Los_Angeles:20180712T203000
DTSTAMP:20260420T074410
CREATED:20180621T232008Z
LAST-MODIFIED:20180704T001239Z
UID:15499-1531420200-1531427400@unitedfortheleast.org
SUMMARY:Kingdom Night: Matt Coil
DESCRIPTION:[fusion_builder_container hundred_percent=”no” equal_height_columns=”no” hide_on_mobile=”small-visibility\,medium-visibility\,large-visibility” background_position=”center center” background_repeat=”no-repeat” fade=”no” background_parallax=”none” enable_mobile=”no” parallax_speed=”0.3″ video_aspect_ratio=”16:9″ video_loop=”yes” video_mute=”yes” border_style=”solid” padding_top=”20px” padding_bottom=”20px”][fusion_builder_row][fusion_builder_column type=”1_1″ layout=”1_1″ spacing=”” center_content=”no” hover_type=”none” link=”” min_height=”” hide_on_mobile=”small-visibility\,medium-visibility\,large-visibility” class=”” id=”” background_color=”” background_image=”” background_position=”left top” background_repeat=”no-repeat” border_size=”0″ border_color=”” border_style=”solid” border_position=”all” padding_top=”” padding_right=”” padding_bottom=”” padding_left=”” dimension_margin=”” animation_type=”” animation_direction=”left” animation_speed=”0.3″ animation_offset=”” last=”no”][fusion_text columns=”” column_min_width=”” column_spacing=”” rule_style=”default” rule_size=”” rule_color=”” class=”” id=””] \nOur weekly Kingdom Nights are a time to gather together with the local community and seek God’s presence! We love to connect with our Redding and Shasta area family to receive from the Lord and encourage one another. \nThis week we will be hearing from guest speaker Matt Coil! Matt is a 1st year Revival Group Pastor at BSSM and carries a huge heart for discipleship. He is an incredible communicator and has a strong anointing for teaching prophetically! We will have a time to respond to God afterwords with worship as we continue to seek what God wants to speak and release among us. It is going to be a powerful night! \n[/fusion_text][fusion_button link=”https://ywamunited.org/events/” text_transform=”” title=”” target=”_self” link_attributes=”” alignment=”” modal=”” hide_on_mobile=”small-visibility\,medium-visibility\,large-visibility” class=”” id=”” color=”default” button_gradient_top_color=”” button_gradient_bottom_color=”” button_gradient_top_color_hover=”” button_gradient_bottom_color_hover=”” accent_color=”” accent_hover_color=”” type=”” bevel_color=”” border_width=”” size=”” stretch=”default” shape=”” icon=”” icon_position=”left” icon_divider=”no” animation_type=”” animation_direction=”left” animation_speed=”0.3″ animation_offset=””]Back to Events Calendar[/fusion_button][/fusion_builder_column][/fusion_builder_row][/fusion_builder_container]
URL:https://unitedfortheleast.org/event/kingdom-night-matt-coil/
LOCATION:First Presbyterian Church Chapel\, 2315 Placer St\, Redding\, CA\, 96001\, United States
ATTACH;FMTTYPE=image/jpeg:https://unitedfortheleast.org/wp-content/uploads/2018/06/kingdomnight.jpg
ORGANIZER;CN="YWAM Redding":MAILTO:info@ywamunited.org
END:VEVENT
BEGIN:VEVENT
DTSTART;TZID=America/Los_Angeles:20180628T183000
DTEND;TZID=America/Los_Angeles:20180628T203000
DTSTAMP:20260420T074410
CREATED:20180621T182951Z
LAST-MODIFIED:20180622T204003Z
UID:15491-1530210600-1530217800@unitedfortheleast.org
SUMMARY:Kingdom Night: Secondary Schools Graduation
DESCRIPTION:[fusion_builder_container hundred_percent=”no” equal_height_columns=”no” hide_on_mobile=”small-visibility\,medium-visibility\,large-visibility” background_position=”center center” background_repeat=”no-repeat” fade=”no” background_parallax=”none” enable_mobile=”no” parallax_speed=”0.3″ video_aspect_ratio=”16:9″ video_loop=”yes” video_mute=”yes” border_style=”solid” padding_top=”20px” padding_bottom=”20px”][fusion_builder_row][fusion_builder_column type=”1_1″ layout=”1_1″ spacing=”” center_content=”no” hover_type=”none” link=”” min_height=”” hide_on_mobile=”small-visibility\,medium-visibility\,large-visibility” class=”” id=”” background_color=”” background_image=”” background_position=”left top” background_repeat=”no-repeat” border_size=”0″ border_color=”” border_style=”solid” border_position=”all” padding_top=”” padding_right=”” padding_bottom=”” padding_left=”” dimension_margin=”” animation_type=”” animation_direction=”left” animation_speed=”0.3″ animation_offset=”” last=”no”][fusion_text columns=”” column_min_width=”” column_spacing=”” rule_style=”default” rule_size=”” rule_color=”” class=”” id=””] \nJoin us as we graduate our amazing secondary school students! We will be celebrating our School of Creative Worship\, and School of Supernatural Frontier Missions students as they close out this season and move into what God has next. There will be a time of worship and testimonies\, followed by refreshments\, and fellowship. Come out as we honor all that the Lord has done! \n[/fusion_text][fusion_button link=”https://ywamunited.org/events/” text_transform=”” title=”” target=”_self” link_attributes=”” alignment=”” modal=”” hide_on_mobile=”small-visibility\,medium-visibility\,large-visibility” class=”” id=”” color=”default” button_gradient_top_color=”” button_gradient_bottom_color=”” button_gradient_top_color_hover=”” button_gradient_bottom_color_hover=”” accent_color=”” accent_hover_color=”” type=”” bevel_color=”” border_width=”” size=”” stretch=”default” shape=”” icon=”” icon_position=”left” icon_divider=”no” animation_type=”” animation_direction=”left” animation_speed=”0.3″ animation_offset=””]Back to Events Calendar[/fusion_button][/fusion_builder_column][/fusion_builder_row][/fusion_builder_container]
URL:https://unitedfortheleast.org/event/kingdom-night-graduation/
LOCATION:First Presbyterian Church Chapel\, 2315 Placer St\, Redding\, CA\, 96001\, United States
ATTACH;FMTTYPE=image/jpeg:https://unitedfortheleast.org/wp-content/uploads/2018/06/LIN_7871-e1529621638138.jpg
ORGANIZER;CN="YWAM Redding":MAILTO:info@ywamunited.org
END:VEVENT
BEGIN:VEVENT
DTSTART;TZID=America/Los_Angeles:20180621T183000
DTEND;TZID=America/Los_Angeles:20180621T203000
DTSTAMP:20260420T074410
CREATED:20180620T235729Z
LAST-MODIFIED:20180621T174829Z
UID:15486-1529605800-1529613000@unitedfortheleast.org
SUMMARY:Kingdom Night
DESCRIPTION:[fusion_builder_container hundred_percent=”no” hundred_percent_height=”no” hundred_percent_height_scroll=”no” hundred_percent_height_center_content=”yes” equal_height_columns=”no” menu_anchor=”” hide_on_mobile=”small-visibility\,medium-visibility\,large-visibility” class=”” id=”” background_color=”” background_image=”” background_position=”center center” background_repeat=”no-repeat” fade=”no” background_parallax=”none” enable_mobile=”no” parallax_speed=”0.3″ video_mp4=”” video_webm=”” video_ogv=”” video_url=”” video_aspect_ratio=”16:9″ video_loop=”yes” video_mute=”yes” video_preview_image=”” border_size=”” border_color=”” border_style=”solid” margin_top=”” margin_bottom=”” padding_top=”” padding_right=”” padding_bottom=”” padding_left=””][fusion_builder_row][fusion_builder_column type=”1_1″ layout=”1_1″ spacing=”” center_content=”no” link=”” target=”_self” min_height=”” hide_on_mobile=”small-visibility\,medium-visibility\,large-visibility” class=”” id=”” background_color=”” background_image=”” background_position=”left top” background_repeat=”no-repeat” hover_type=”none” border_size=”0″ border_color=”” border_style=”solid” border_position=”all” padding_top=”” padding_right=”” padding_bottom=”” padding_left=”” dimension_margin=”” animation_type=”” animation_direction=”left” animation_speed=”0.3″ animation_offset=”” last=”no”][fusion_text columns=”” column_min_width=”” column_spacing=”” rule_style=”default” rule_size=”” rule_color=”” class=”” id=””] \nThis week’s Kingdom Night will be a time of prayer for the persecuted church. We will have a time of worship together followed by a time of prayer for our brothers and sisters around the world who are being persecuted for their faith in Christ. There will be booths where you will be informed about circumstances that christians in specific nations and regions are facing. Stand with us as we “remember those who are in prison\, as though in prison with them\, and those who are mistreated” since we are all one body in Christ. (Hebrews 13:3) \n[/fusion_text][fusion_button link=”https://ywamunited.org/events/” text_transform=”” title=”” target=”_self” link_attributes=”” alignment=”” modal=”” hide_on_mobile=”small-visibility\,medium-visibility\,large-visibility” class=”” id=”” color=”default” button_gradient_top_color=”” button_gradient_bottom_color=”” button_gradient_top_color_hover=”” button_gradient_bottom_color_hover=”” accent_color=”” accent_hover_color=”” type=”” bevel_color=”” border_width=”” size=”” stretch=”default” shape=”” icon=”” icon_position=”left” icon_divider=”no” animation_type=”” animation_direction=”left” animation_speed=”0.3″ animation_offset=””]Back to Events Calander[/fusion_button][/fusion_builder_column][/fusion_builder_row][/fusion_builder_container]
URL:https://unitedfortheleast.org/event/kingdom-night/
LOCATION:First Presbyterian Church Chapel\, 2315 Placer St\, Redding\, CA\, 96001\, United States
ATTACH;FMTTYPE=image/jpeg:https://unitedfortheleast.org/wp-content/uploads/2018/06/IMG_0158_Fotor-e1529538941128.jpg
ORGANIZER;CN="YWAM Redding":MAILTO:info@ywamunited.org
END:VEVENT
END:VCALENDAR